BEGIN:VCALENDAR
VERSION:2.0
PRODID:-//Sheet Metal Workers Local 399 - ECPv5.9.1//NONSGML v1.0//EN
CALSCALE:GREGORIAN
METHOD:PUBLISH
X-WR-CALNAME:Sheet Metal Workers Local 399
X-ORIGINAL-URL:https://sheetmetallocal399.com
X-WR-CALDESC:Events for Sheet Metal Workers Local 399
BEGIN:VTIMEZONE
TZID:UTC
BEGIN:STANDARD
TZOFFSETFROM:+0000
TZOFFSETTO:+0000
TZNAME:UTC
DTSTART:20230101T000000
END:STANDARD
END:VTIMEZONE
BEGIN:VEVENT
DTSTART;TZID=UTC:20230617T090000
DTEND;TZID=UTC:20230617T120000
DTSTAMP:20260423T144259
CREATED:20230607T131302Z
LAST-MODIFIED:20230607T133559Z
UID:2046-1686992400-1687003200@sheetmetallocal399.com
SUMMARY:Voting for the next Term
DESCRIPTION:Tell everyone its time to go voting for the Halls next term\, all three locations will be open\,  every vote is counted in Charleston. \nNew Ellenton directions  https://goo.gl/maps/4qRETPP8CkEBfXyK8 \nColumbia directions  https://goo.gl/maps/p9zWhBCsycVaWuZk7 \nCharleston directions https://goo.gl/maps/W9TX4b3FHN5kFc6M7
URL:https://sheetmetallocal399.com/event/voting-for-the-next-term/
END:VEVENT
END:VCALENDAR