BEGIN:VCALENDAR
VERSION:2.0
PRODID:-//Sheet Metal Workers Local 399 - ECPv5.9.1//NONSGML v1.0//EN
CALSCALE:GREGORIAN
METHOD:PUBLISH
X-WR-CALNAME:Sheet Metal Workers Local 399
X-ORIGINAL-URL:https://sheetmetallocal399.com
X-WR-CALDESC:Events for Sheet Metal Workers Local 399
BEGIN:VTIMEZONE
TZID:UTC
BEGIN:STANDARD
TZOFFSETFROM:+0000
TZOFFSETTO:+0000
TZNAME:UTC
DTSTART:20210101T000000
END:STANDARD
END:VTIMEZONE
BEGIN:VEVENT
DTSTART;TZID=UTC:20210204T200000
DTEND;TZID=UTC:20210204T220000
DTSTAMP:20260420T175931
CREATED:20170517T181417Z
LAST-MODIFIED:20210108T160807Z
UID:1493-1612468800-1612476000@sheetmetallocal399.com
SUMMARY:Membership Meeting
DESCRIPTION:You need to be logged in to view this content. Please Log In. Not a Member? Join Us
URL:https://sheetmetallocal399.com/event/membership-meeting/
LOCATION:Columbia Training Facility\, 7434 Fairfield Drive\, Columbia\, SC\, 29203\, United States
END:VEVENT
END:VCALENDAR